BEGIN:VCALENDAR
VERSION:2.0
METHOD:PUBLISH
PRODID:-//Agenda.ad//NONSGML v1.0//EN
BEGIN:VEVENT
CLASS:PUBLIC
UID:680c23e8df4fa36e3a50e6f665dcda1c@agenda.ad
DTSTAMP:20260424T092847Z
DTSTART:20191213T230000Z
DTEND:20191213T230000Z
SUMMARY:Els follets ja han arribat!
DESCRIPTION:Activitats infantils a la pista de gel.\n\nMés informació\
 nhttps://www.agenda.ad/activitat/canillo/activitats-infantil
 s/els-follets-ja-han-arribat! \n\n\nOrganitza\nPalau de Gel
  d'Andorra
LOCATION:Palau de Gel d'Andorra
SEQUENCE:0
TRANSP:OPAQUE
X-ALT-DESC;FMTTYPE=text/html:<!DOCTYPE HTML PUBLIC "-//W3C//DTD HTML 3.2//EN"><HTML><HEAD
 ><TITLE></TITLE></HEAD><BODY><FONT FACE="Arial" SIZE=2>Activ
 itats infantils a la pista de gel.<br /><br /><br/><br/><b>M
 és informació</b><br/><a href="https://www.agenda.ad/activ
 itat/canillo/activitats-infantils/els-follets-ja-han-arribat
 ! ">https://www.agenda.ad/activitat/canillo/activitats-infa
 ntils/els-follets-ja-han-arribat! </a><br/><br/><br/><b>Org
 anitza</b><br/>Palau de Gel d'Andorra</FONT></BODY></HTML>
END:VEVENT
END:VCALENDAR